BEGIN:VCALENDAR
VERSION:2.0
PRODID:-//SVP Niederhasli //NONSGML Events //EN
CALSCALE:GREGORIAN
X-WR-CALNAME:SVP Niederhasli
BEGIN:VEVENT
CREATED:20250105T174417Z
UID:1467
DTEND:20250328T000000
DTSTART:20250328T000000
DTSTAMP:20260421T175036Z
LOCATION:tbd
DESCRIPTION:
SUMMARY:Generalversammlung SVP-Niederhasli
ORGANIZER:SVP-Niederhasli
URL;VALUE=URI:https://www.svp-niederhasli.ch/termine/generalversammlung-svp-niederhasli/
TRANSP:OPAQUE
END:VEVENT
END:VCALENDAR
